BEGIN:VCALENDAR
VERSION:2.0
PRODID:icalendar-ruby
CALSCALE:GREGORIAN
METHOD:PUBLISH
BEGIN:VEVENT
DTSTAMP:20260426T035238Z
UID:5-738613@kingdomlife.us
DTSTART:20261004T150000Z
DTEND:20261004T160000Z
CLASS:PUBLIC
CREATED:20260425T202246
DESCRIPTION:Sunday Worship
LAST-MODIFIED:20260425T202246
LOCATION:
SUMMARY:Sunday Worship
URL;VALUE=URI:https://kingdomlife.us/events/sunday-worship/2026-10-04
END:VEVENT
END:VCALENDAR
